BEGIN:VCALENDAR
VERSION:2.0
PRODID:-//CDG44//Drupal ICS//EN
BEGIN:VEVENT
UID:31df137c150753a09192f2f8498bce91
DTSTAMP:20260421T201143Z
DTSTART:20260312T130000Z
DTEND:20260312T143000Z
SUMMARY:Hors les Murs 2026 - Jurivisio : la décharge de fonctions
DESCRIPTION:
LOCATION:En visioconférence
END:VEVENT
END:VCALENDAR